BEGIN:VCALENDAR
VERSION:2.0
PRODID:-//NYC Food Policy Center (Hunter College) - ECPv6.15.12//NONSGML v1.0//EN
CALSCALE:GREGORIAN
METHOD:PUBLISH
X-ORIGINAL-URL:https://www.nycfoodpolicy.org
X-WR-CALDESC:Events for NYC Food Policy Center (Hunter College)
REFRESH-INTERVAL;VALUE=DURATION:PT1H
X-Robots-Tag:noindex
X-PUBLISHED-TTL:PT1H
BEGIN:VTIMEZONE
TZID:America/New_York
BEGIN:DAYLIGHT
TZOFFSETFROM:-0500
TZOFFSETTO:-0400
TZNAME:EDT
DTSTART:20140309T070000
END:DAYLIGHT
BEGIN:STANDARD
TZOFFSETFROM:-0400
TZOFFSETTO:-0500
TZNAME:EST
DTSTART:20141102T060000
END:STANDARD
BEGIN:DAYLIGHT
TZOFFSETFROM:-0500
TZOFFSETTO:-0400
TZNAME:EDT
DTSTART:20150308T070000
END:DAYLIGHT
BEGIN:STANDARD
TZOFFSETFROM:-0400
TZOFFSETTO:-0500
TZNAME:EST
DTSTART:20151101T060000
END:STANDARD
BEGIN:DAYLIGHT
TZOFFSETFROM:-0500
TZOFFSETTO:-0400
TZNAME:EDT
DTSTART:20160313T070000
END:DAYLIGHT
BEGIN:STANDARD
TZOFFSETFROM:-0400
TZOFFSETTO:-0500
TZNAME:EST
DTSTART:20161106T060000
END:STANDARD
END:VTIMEZONE
BEGIN:VEVENT
DTSTART;TZID=America/New_York:20150318T180000
DTEND;TZID=America/New_York:20150318T190000
DTSTAMP:20260422T151856
CREATED:20150318T155718Z
LAST-MODIFIED:20150318T155718Z
UID:5325-1426701600-1426705200@www.nycfoodpolicy.org
SUMMARY:Mexican Spring: Sowing Seeds of Resistance from Ayotzinapa to New York City Press Conference and Community Forum
DESCRIPTION:Professor Felipe de la Cruz Sandoval\, faculty member from the Aytozinapa Rural Teachers College and spokesperson of the parents of the 43 forcibly disappeared Ayotzinapa students will announce the arrival of the Caravan43 of Ayotzinapa parents into New York City this April. Since the September attacks\, de la Cruz has been working with students and families as they search for their loved ones and has been part of a growing protest movement denouncing government corruption and narco-State violence in México. \nLocal scholars\, artists\, students\, activists\, and the public will gather to learn about the demands that the Ayotzinapa parents are bringing to the U.S. and the role that U.S. policy has played in fueling much of México’s drug-related violence. \nChair:\nFlorencia Ruíz Mendoza\, Historical Memory Project – John Jay College of Criminal Justice/CUNY \nPresenters:\nProf. Felipe de la Cruz Sandoval\, Ayotzinapa Rural Teachers College/Caravana 43\nChristy Thornton\, North America Council on Latin America (NACLA)\nPablo Benson Silva\, Long Island University (LIU) \nOrganizers:\nCo-sponsored by the Center for Latin American\, Caribbean\, and Latino Studies (CLACLS)\, Latina/o and Latin American Student Association (AELLA) and Caravan43 NYC Coalition \nThis event is free and open to the public. Come\, participate\, and together let’s get ready to welcome the Caravan43!
URL:https://www.nycfoodpolicy.org/eventcalendar/mexican-spring-sowing-seeds-of-resistance-from-ayotzinapa-to-new-york-city-press-conference-and-community-forum/
LOCATION:CUNY Graduate Center\, 365 5th Ave\, New York\, NY\, 10016\, United States
CATEGORIES:External events
ATTACH;FMTTYPE=image/jpeg:https://www.nycfoodpolicy.org/wp-content/uploads/2015/03/ayozin.jpg
END:VEVENT
END:VCALENDAR