BEGIN:VCALENDAR
VERSION:2.0
PRODID:-//NYC Food Policy Center (Hunter College) - ECPv6.15.12//NONSGML v1.0//EN
CALSCALE:GREGORIAN
METHOD:PUBLISH
X-WR-CALNAME:NYC Food Policy Center (Hunter College)
X-ORIGINAL-URL:https://www.nycfoodpolicy.org
X-WR-CALDESC:Events for NYC Food Policy Center (Hunter College)
REFRESH-INTERVAL;VALUE=DURATION:PT1H
X-Robots-Tag:noindex
X-PUBLISHED-TTL:PT1H
BEGIN:VTIMEZONE
TZID:America/New_York
BEGIN:DAYLIGHT
TZOFFSETFROM:-0500
TZOFFSETTO:-0400
TZNAME:EDT
DTSTART:20140309T070000
END:DAYLIGHT
BEGIN:STANDARD
TZOFFSETFROM:-0400
TZOFFSETTO:-0500
TZNAME:EST
DTSTART:20141102T060000
END:STANDARD
BEGIN:DAYLIGHT
TZOFFSETFROM:-0500
TZOFFSETTO:-0400
TZNAME:EDT
DTSTART:20150308T070000
END:DAYLIGHT
BEGIN:STANDARD
TZOFFSETFROM:-0400
TZOFFSETTO:-0500
TZNAME:EST
DTSTART:20151101T060000
END:STANDARD
BEGIN:DAYLIGHT
TZOFFSETFROM:-0500
TZOFFSETTO:-0400
TZNAME:EDT
DTSTART:20160313T070000
END:DAYLIGHT
BEGIN:STANDARD
TZOFFSETFROM:-0400
TZOFFSETTO:-0500
TZNAME:EST
DTSTART:20161106T060000
END:STANDARD
END:VTIMEZONE
BEGIN:VEVENT
DTSTART;TZID=America/New_York:20151130T141500
DTEND;TZID=America/New_York:20151130T154500
DTSTAMP:20260424T145304
CREATED:20150930T160743Z
LAST-MODIFIED:20151029T161738Z
UID:6650-1448892900-1448898300@www.nycfoodpolicy.org
SUMMARY:Understanding New York City SchoolFood
DESCRIPTION:RSVP to: info@nycfoodpolicy.org
URL:https://www.nycfoodpolicy.org/eventcalendar/understanding-new-york-city-schoolfood-2/
LOCATION:The Silberman Building\, 2180 Third Avenue at 119th Street\, New York
CATEGORIES:East Harlem Events,Events calendar
END:VEVENT
END:VCALENDAR