BEGIN:VCALENDAR
VERSION:2.0
PRODID:-//NYC Food Policy Center (Hunter College) - ECPv6.15.12//NONSGML v1.0//EN
CALSCALE:GREGORIAN
METHOD:PUBLISH
X-ORIGINAL-URL:https://www.nycfoodpolicy.org
X-WR-CALDESC:Events for NYC Food Policy Center (Hunter College)
REFRESH-INTERVAL;VALUE=DURATION:PT1H
X-Robots-Tag:noindex
X-PUBLISHED-TTL:PT1H
BEGIN:VTIMEZONE
TZID:America/New_York
BEGIN:DAYLIGHT
TZOFFSETFROM:-0500
TZOFFSETTO:-0400
TZNAME:EDT
DTSTART:20130310T070000
END:DAYLIGHT
BEGIN:STANDARD
TZOFFSETFROM:-0400
TZOFFSETTO:-0500
TZNAME:EST
DTSTART:20131103T060000
END:STANDARD
BEGIN:DAYLIGHT
TZOFFSETFROM:-0500
TZOFFSETTO:-0400
TZNAME:EDT
DTSTART:20140309T070000
END:DAYLIGHT
BEGIN:STANDARD
TZOFFSETFROM:-0400
TZOFFSETTO:-0500
TZNAME:EST
DTSTART:20141102T060000
END:STANDARD
BEGIN:DAYLIGHT
TZOFFSETFROM:-0500
TZOFFSETTO:-0400
TZNAME:EDT
DTSTART:20150308T070000
END:DAYLIGHT
BEGIN:STANDARD
TZOFFSETFROM:-0400
TZOFFSETTO:-0500
TZNAME:EST
DTSTART:20151101T060000
END:STANDARD
END:VTIMEZONE
BEGIN:VEVENT
DTSTART;TZID=America/New_York:20141205T160000
DTEND;TZID=America/New_York:20141205T173000
DTSTAMP:20260425T105559
CREATED:20141204T150447Z
LAST-MODIFIED:20141205T224228Z
UID:4389-1417795200-1417800600@www.nycfoodpolicy.org
SUMMARY:Intership Opportunity with the Youth Leadership Program (YLP)
DESCRIPTION:Sponsored by Weill Cornell Medical College and Hunter College \nYLP is a group of teens and adult allies working to make East Harlem a healthier community and have fun while doing it! \nCOME TO OUR INFO SESSION THIS FRIDAY DECEMBER 5TH AT 4PM. THE LOCATION IS THE HUNTER COLLEGE SILBERMAN BUILDING LOCATED AT 2180 3RD AVENUE AND THE CORNER OF EAST 119TH STREET. THE ROOM IS 327 ON THE 3RD FLOOR. LIGHT SNACKS WILL BE AVAILABLE. WE HOPE TO SEE YOU THERE!
URL:https://www.nycfoodpolicy.org/eventcalendar/intership-opportunity-youth-leadership-program-ylp/
LOCATION:The Silberman Building\, 2180 Third Avenue at 119th Street\, New York
CATEGORIES:East Harlem Events,External events
ATTACH;FMTTYPE=image/jpeg:https://www.nycfoodpolicy.org/wp-content/uploads/2014/06/YLP_Vertical.jpg
END:VEVENT
END:VCALENDAR