BEGIN:VCALENDAR
VERSION:2.0
PRODID:-//NYC Food Policy Center (Hunter College) - ECPv6.15.12//NONSGML v1.0//EN
CALSCALE:GREGORIAN
METHOD:PUBLISH
X-ORIGINAL-URL:https://www.nycfoodpolicy.org
X-WR-CALDESC:Events for NYC Food Policy Center (Hunter College)
REFRESH-INTERVAL;VALUE=DURATION:PT1H
X-Robots-Tag:noindex
X-PUBLISHED-TTL:PT1H
BEGIN:VTIMEZONE
TZID:America/New_York
BEGIN:DAYLIGHT
TZOFFSETFROM:-0500
TZOFFSETTO:-0400
TZNAME:EDT
DTSTART:20130310T070000
END:DAYLIGHT
BEGIN:STANDARD
TZOFFSETFROM:-0400
TZOFFSETTO:-0500
TZNAME:EST
DTSTART:20131103T060000
END:STANDARD
BEGIN:DAYLIGHT
TZOFFSETFROM:-0500
TZOFFSETTO:-0400
TZNAME:EDT
DTSTART:20140309T070000
END:DAYLIGHT
BEGIN:STANDARD
TZOFFSETFROM:-0400
TZOFFSETTO:-0500
TZNAME:EST
DTSTART:20141102T060000
END:STANDARD
BEGIN:DAYLIGHT
TZOFFSETFROM:-0500
TZOFFSETTO:-0400
TZNAME:EDT
DTSTART:20150308T070000
END:DAYLIGHT
BEGIN:STANDARD
TZOFFSETFROM:-0400
TZOFFSETTO:-0500
TZNAME:EST
DTSTART:20151101T060000
END:STANDARD
END:VTIMEZONE
BEGIN:VEVENT
DTSTART;TZID=America/New_York:20141118T173000
DTEND;TZID=America/New_York:20141118T190000
DTSTAMP:20260425T124514
CREATED:20141118T015248Z
LAST-MODIFIED:20141118T015429Z
UID:4247-1416331800-1416337200@www.nycfoodpolicy.org
SUMMARY:East Harlem Community Meeting
DESCRIPTION:Community Meeting to discuss the East River Development. \n  \nThe East River Development Plan is a plan to build three high rise luxury condo buildings on top of the Costco. There will be 1100 units only 250 will be affordable. \n  \nWe will talk about the details of the development plan and our options to fight back. We need your input in this process so we can get the best for our community. \nFor more info or to RSVP Call/Text Negesti at CVH 347-496-6824 \n 
URL:https://www.nycfoodpolicy.org/eventcalendar/east-harlem-community-meeting/
LOCATION:Thomas Jefferson Recreation Center\, 2180 1st Ave\, New York\, NY\, 10029\, United States
CATEGORIES:East Harlem Events
ATTACH;FMTTYPE=image/jpeg:https://www.nycfoodpolicy.org/wp-content/uploads/2014/11/9755.jpg
END:VEVENT
END:VCALENDAR