BEGIN:VCALENDAR
VERSION:2.0
PRODID:-//NYC Food Policy Center (Hunter College) - ECPv6.15.12//NONSGML v1.0//EN
CALSCALE:GREGORIAN
METHOD:PUBLISH
X-WR-CALNAME:NYC Food Policy Center (Hunter College)
X-ORIGINAL-URL:https://www.nycfoodpolicy.org
X-WR-CALDESC:Events for NYC Food Policy Center (Hunter College)
REFRESH-INTERVAL;VALUE=DURATION:PT1H
X-Robots-Tag:noindex
X-PUBLISHED-TTL:PT1H
BEGIN:VTIMEZONE
TZID:America/New_York
BEGIN:DAYLIGHT
TZOFFSETFROM:-0500
TZOFFSETTO:-0400
TZNAME:EDT
DTSTART:20150308T070000
END:DAYLIGHT
BEGIN:STANDARD
TZOFFSETFROM:-0400
TZOFFSETTO:-0500
TZNAME:EST
DTSTART:20151101T060000
END:STANDARD
BEGIN:DAYLIGHT
TZOFFSETFROM:-0500
TZOFFSETTO:-0400
TZNAME:EDT
DTSTART:20160313T070000
END:DAYLIGHT
BEGIN:STANDARD
TZOFFSETFROM:-0400
TZOFFSETTO:-0500
TZNAME:EST
DTSTART:20161106T060000
END:STANDARD
BEGIN:DAYLIGHT
TZOFFSETFROM:-0500
TZOFFSETTO:-0400
TZNAME:EDT
DTSTART:20170312T070000
END:DAYLIGHT
BEGIN:STANDARD
TZOFFSETFROM:-0400
TZOFFSETTO:-0500
TZNAME:EST
DTSTART:20171105T060000
END:STANDARD
END:VTIMEZONE
BEGIN:VEVENT
DTSTART;TZID=America/New_York:20160105T180000
DTEND;TZID=America/New_York:20160105T200000
DTSTAMP:20260424T112934
CREATED:20151223T190102Z
LAST-MODIFIED:20151223T190206Z
UID:7109-1452016800-1452024000@www.nycfoodpolicy.org
SUMMARY:Community Board Meetings - East Harlem Neighborhood Plan
DESCRIPTION:Community Board Meetings – East Harlem Neighborhood Plan\nSince June\, there have been 6 large Visioning Workshops with the community on 12 different topics\nJoin us at these upcoming Community Board Committee meetings to learn about the\nrecommendations that have been developed from community input\, and share your feedback.\nIn late-January\, Community Board 11 will present the recommendations again so the community can help\nprioritize among them. After incorporating all the feedback we’re getting along the way\, we\nhope to have the final East Harlem Neighborhood Plan done by early February. \nNext Meeting: January 5th:\n6PM: Housing\, Preservation and NYCHA \n7PM: Transportation and Safety \n  \nBonifacio Senior Center \n7 East 116th Street \nSubmit feedback online: eastharlemplan.nyc
URL:https://www.nycfoodpolicy.org/eventcalendar/community-board-meetings-east-harlem-neighborhood-plan/
LOCATION:Bonifacio Senior Center\, 7 East 116th Street\, New York\, 10029\, United States
CATEGORIES:East Harlem Events,Events calendar
ATTACH;FMTTYPE=image/png:https://www.nycfoodpolicy.org/wp-content/uploads/2015/12/Slide1.png
END:VEVENT
BEGIN:VEVENT
DTSTART;TZID=America/New_York:20160111T180000
DTEND;TZID=America/New_York:20160111T190000
DTSTAMP:20260424T112934
CREATED:20151223T190554Z
LAST-MODIFIED:20151223T190554Z
UID:7115-1452535200-1452538800@www.nycfoodpolicy.org
SUMMARY:Community Board Meetings - East Harlem Neighborhood Plan
DESCRIPTION:Community Board Meetings – East Harlem Neighborhood Plan\nSince June\, there have been 6 large Visioning Workshops with the community on 12 different topics\nJoin us at these upcoming Community Board Committee meetings to learn about the\nrecommendations that have been developed from community input\, and share your feedback.\nIn late-January\, Community Board 11 will present the recommendations again so the community can help\nprioritize among them. After incorporating all the feedback we’re getting along the way\, we\nhope to have the final East Harlem Neighborhood Plan done by early February. \nNext Meeting: January 11th:\n6PM: Health and Seniors \nBonifacio Senior Center \n7 East 116th Street \nSubmit feedback online: eastharlemplan.nyc
URL:https://www.nycfoodpolicy.org/eventcalendar/community-board-meetings-east-harlem-neighborhood-plan-2/
LOCATION:Bonifacio Senior Center\, 7 East 116th Street\, New York\, NY\, 10029\, United States
CATEGORIES:East Harlem Events,Events calendar
ATTACH;FMTTYPE=image/png:https://www.nycfoodpolicy.org/wp-content/uploads/2015/12/Slide1.png
END:VEVENT
BEGIN:VEVENT
DTSTART;TZID=America/New_York:20160112T190000
DTEND;TZID=America/New_York:20160112T200000
DTSTAMP:20260424T112934
CREATED:20151223T191517Z
LAST-MODIFIED:20151223T191517Z
UID:7117-1452625200-1452628800@www.nycfoodpolicy.org
SUMMARY:Community Board Meetings - East Harlem Neighborhood Plan
DESCRIPTION:Community Board Meetings – East Harlem Neighborhood Plan\nSince June\, there have been 6 large Visioning Workshops with the community on 12 different topics\nJoin us at these upcoming Community Board Committee meetings to learn about the\nrecommendations that have been developed from community input\, and share your feedback.\nIn late-January\, Community Board 11 will present the recommendations again so the community can help\nprioritize among them. After incorporating all the feedback we’re getting along the way\, we\nhope to have the final East Harlem Neighborhood Plan done by early February. \nNext Meeting: January 12th:\n6PM: Art and Culture \nBonifacio Senior Center \n7 East 116th Street \nSubmit feedback online: eastharlemplan.nyc
URL:https://www.nycfoodpolicy.org/eventcalendar/community-board-meetings-east-harlem-neighborhood-plan-3/
LOCATION:Bonifacio Senior Center\, 7 East 116th Street\, New York\, NY\, 10029\, United States
CATEGORIES:East Harlem Events,Events calendar
ATTACH;FMTTYPE=image/png:https://www.nycfoodpolicy.org/wp-content/uploads/2015/12/Slide1.png
END:VEVENT
BEGIN:VEVENT
DTSTART;TZID=America/New_York:20160113T180000
DTEND;TZID=America/New_York:20160113T190000
DTSTAMP:20260424T112934
CREATED:20151223T191800Z
LAST-MODIFIED:20151223T192050Z
UID:7120-1452708000-1452711600@www.nycfoodpolicy.org
SUMMARY:Community Board Meetings - East Harlem Neighborhood Plan
DESCRIPTION:Community Board Meetings – East Harlem Neighborhood Plan\nSince June\, there have been 6 large Visioning Workshops with the community on 12 different topics\nJoin us at these upcoming Community Board Committee meetings to learn about the\nrecommendations that have been developed from community input\, and share your feedback.\nIn late-January\, Community Board 11 will present the recommendations again so the community can help\nprioritize among them. After incorporating all the feedback we’re getting along the way\, we\nhope to have the final East Harlem Neighborhood Plan done by early February. \nNext Meeting: January 13th:\n6PM: Land Use\, Zoning and Affordable Housing \nBonifacio Senior Center \n7 East 116th Street \nSubmit feedback online: eastharlemplan.nyc
URL:https://www.nycfoodpolicy.org/eventcalendar/community-board-meetings-east-harlem-neighborhood-plan-4/
LOCATION:Bonifacio Senior Center\, 7 East 116th Street\, New York\, NY\, 10029\, United States
CATEGORIES:East Harlem Events,Events calendar
ATTACH;FMTTYPE=image/png:https://www.nycfoodpolicy.org/wp-content/uploads/2015/12/Slide1.png
END:VEVENT
BEGIN:VEVENT
DTSTART;TZID=America/New_York:20160114T180000
DTEND;TZID=America/New_York:20160114T190000
DTSTAMP:20260424T112934
CREATED:20151223T192016Z
LAST-MODIFIED:20151223T192058Z
UID:7122-1452794400-1452798000@www.nycfoodpolicy.org
SUMMARY:Community Board Meetings - East Harlem Neighborhood Plan
DESCRIPTION:Community Board Meetings – East Harlem Neighborhood Plan\nSince June\, there have been 6 large Visioning Workshops with the community on 12 different topics\nJoin us at these upcoming Community Board Committee meetings to learn about the\nrecommendations that have been developed from community input\, and share your feedback.\nIn late-January\, Community Board 11 will present the recommendations again so the community can help\nprioritize among them. After incorporating all the feedback we’re getting along the way\, we\nhope to have the final East Harlem Neighborhood Plan done by early February. \nNext Meeting: January 14th:\n6PM: Parks and Open Space\, Environment and Energy \nBonifacio Senior Center \n7 East 116th Street \nSubmit feedback online: eastharlemplan.nyc
URL:https://www.nycfoodpolicy.org/eventcalendar/7122/
LOCATION:Bonifacio Senior Center\, 7 East 116th Street\, New York\, NY\, 10029\, United States
CATEGORIES:East Harlem Events,Events calendar
ATTACH;FMTTYPE=image/png:https://www.nycfoodpolicy.org/wp-content/uploads/2015/12/Slide1.png
END:VEVENT
END:VCALENDAR